BEGIN:VCALENDAR
VERSION:2.0
PRODID:fussball.sportunion-aschbach.at
X-PUBLISHED-TTL:P1D
BEGIN:VEVENT
UID:69e64a7fb35ef
DTSTART:20201024T150000
SEQUENCE:0
TRANSP:OPAQUE
DTEND:20201024T030000
LOCATION:Sportplatz Göstling
SUMMARY:FC Göstling : SU Aschbach
CLASS:PUBLIC
DESCRIPTION:U 23 um 13:00 Uhr
DTSTAMP:20260420T174711Z
END:VEVENT
END:VCALENDAR