BEGIN:VCALENDAR
VERSION:2.0
PRODID:fussball.sportunion-aschbach.at
X-PUBLISHED-TTL:P1D
BEGIN:VEVENT
UID:69e88d5cc08a1
DTSTART:20260314T120000
SEQUENCE:0
TRANSP:OPAQUE
DTEND:20260314T120000
LOCATION:KR Neuhofen/Ybbs 
SUMMARY:VB Spiel SU Weise Raika Aschbach vs. UFC St.Peter/Au II
CLASS:PUBLIC
DESCRIPTION:KR Neuhofen/Ybbs&nbsp\;
DTSTAMP:20260422T105700Z
END:VEVENT
END:VCALENDAR