BEGIN:VCALENDAR
VERSION:2.0
PRODID:tennis.sportunion-aschbach.at
X-PUBLISHED-TTL:P1D
BEGIN:VEVENT
UID:69e584b2d73c6
DTSTART:20190622T130000
SEQUENCE:0
TRANSP:OPAQUE
DTEND:20190623T150000
SUMMARY:7. Meisterschaftsrunde Damen und Herren allgemein
CLASS:PUBLIC
DTSTAMP:20260420T034314Z
END:VEVENT
END:VCALENDAR