BEGIN:VCALENDAR
VERSION:2.0
PRODID:tennis.sportunion-aschbach.at
X-PUBLISHED-TTL:P1D
BEGIN:VEVENT
UID:69ecbcd6114f5
DTSTART:20190615T130000
SEQUENCE:0
TRANSP:OPAQUE
DTEND:20190616T150000
SUMMARY:6. Meisterschaftsrunde Damen und Herren allgemein
CLASS:PUBLIC
DTSTAMP:20260425T150838Z
END:VEVENT
END:VCALENDAR