BEGIN:VCALENDAR
VERSION:2.0
PRODID:fussball.sportunion-aschbach.at
X-PUBLISHED-TTL:P1D
BEGIN:VEVENT
UID:69e58488ceec6
DTSTART:20240216T200000
SEQUENCE:0
TRANSP:OPAQUE
DTEND:20240216T030000
SUMMARY:VB Aschbach : Wolfern
CLASS:PUBLIC
DTSTAMP:20260420T034232Z
END:VEVENT
END:VCALENDAR