BEGIN:VCALENDAR
VERSION:2.0
PRODID:volleyball.sportunion-aschbach.at
X-PUBLISHED-TTL:P1D
BEGIN:VEVENT
UID:69ea5583531ea
DTSTART:20211030T110000
SEQUENCE:0
TRANSP:OPAQUE
DTEND:20211030T180000
LOCATION:Sporthalle Aschbach
SUMMARY:Heimspiel 1. Klasse Herren
CLASS:PUBLIC
DTSTAMP:20260423T192315Z
END:VEVENT
END:VCALENDAR